BEGIN:VCALENDAR
VERSION:2.0
PRODID:-//King Grove Baptist Church - ECPv6.15.17.1//NONSGML v1.0//EN
CALSCALE:GREGORIAN
METHOD:PUBLISH
X-ORIGINAL-URL:https://kinggrove.org
X-WR-CALDESC:Events for King Grove Baptist Church
REFRESH-INTERVAL;VALUE=DURATION:PT1H
X-Robots-Tag:noindex
X-PUBLISHED-TTL:PT1H
BEGIN:VTIMEZONE
TZID:America/New_York
BEGIN:DAYLIGHT
TZOFFSETFROM:-0500
TZOFFSETTO:-0400
TZNAME:EDT
DTSTART:20240310T070000
END:DAYLIGHT
BEGIN:STANDARD
TZOFFSETFROM:-0400
TZOFFSETTO:-0500
TZNAME:EST
DTSTART:20241103T060000
END:STANDARD
BEGIN:DAYLIGHT
TZOFFSETFROM:-0500
TZOFFSETTO:-0400
TZNAME:EDT
DTSTART:20250309T070000
END:DAYLIGHT
BEGIN:STANDARD
TZOFFSETFROM:-0400
TZOFFSETTO:-0500
TZNAME:EST
DTSTART:20251102T060000
END:STANDARD
BEGIN:DAYLIGHT
TZOFFSETFROM:-0500
TZOFFSETTO:-0400
TZNAME:EDT
DTSTART:20260308T070000
END:DAYLIGHT
BEGIN:STANDARD
TZOFFSETFROM:-0400
TZOFFSETTO:-0500
TZNAME:EST
DTSTART:20261101T060000
END:STANDARD
END:VTIMEZONE
BEGIN:VEVENT
DTSTART;TZID=America/New_York:20251108T073000
DTEND;TZID=America/New_York:20251108T090000
DTSTAMP:20260422T002722
CREATED:20250902T022513Z
LAST-MODIFIED:20250906T150245Z
UID:502-1762587000-1762592400@kinggrove.org
SUMMARY:Breakfast and Bible Study (BBS)
DESCRIPTION:Come join us for a free breakfast of eggs\, pancakes\, sausage\, bacon\, biscuits\, gravy\, grits\, fruit\, and host of other delicious food and stay as we open the Word of God and study get some spiritual food as well.
URL:https://kinggrove.org/event/breakfast-and-bible-study-bbs/
END:VEVENT
END:VCALENDAR